BEGIN:VCALENDAR
VERSION:2.0
PRODID:-//CAG Devon - ECPv6.15.18//NONSGML v1.0//EN
CALSCALE:GREGORIAN
METHOD:PUBLISH
X-ORIGINAL-URL:https://cagdevon.org.uk
X-WR-CALDESC:Events for CAG Devon
REFRESH-INTERVAL;VALUE=DURATION:PT1H
X-Robots-Tag:noindex
X-PUBLISHED-TTL:PT1H
BEGIN:VTIMEZONE
TZID:Europe/London
BEGIN:DAYLIGHT
TZOFFSETFROM:+0000
TZOFFSETTO:+0100
TZNAME:BST
DTSTART:20240331T010000
END:DAYLIGHT
BEGIN:STANDARD
TZOFFSETFROM:+0100
TZOFFSETTO:+0000
TZNAME:GMT
DTSTART:20241027T010000
END:STANDARD
BEGIN:DAYLIGHT
TZOFFSETFROM:+0000
TZOFFSETTO:+0100
TZNAME:BST
DTSTART:20250330T010000
END:DAYLIGHT
BEGIN:STANDARD
TZOFFSETFROM:+0100
TZOFFSETTO:+0000
TZNAME:GMT
DTSTART:20251026T010000
END:STANDARD
BEGIN:DAYLIGHT
TZOFFSETFROM:+0000
TZOFFSETTO:+0100
TZNAME:BST
DTSTART:20260329T010000
END:DAYLIGHT
BEGIN:STANDARD
TZOFFSETFROM:+0100
TZOFFSETTO:+0000
TZNAME:GMT
DTSTART:20261025T010000
END:STANDARD
END:VTIMEZONE
BEGIN:VEVENT
DTSTART;TZID=Europe/London:20250927T100000
DTEND;TZID=Europe/London:20250927T130000
DTSTAMP:20260424T092301
CREATED:20250902T155550Z
LAST-MODIFIED:20250902T155550Z
UID:10001784-1758967200-1758978000@cagdevon.org.uk
SUMMARY:Blackdown Hills Repair Cafe
DESCRIPTION:After our Summer break\, we’re back! \nThe next Blackdown Hills Repair Café will be held in Churchinford on Friday\, 27th September. \nBring along your broken household items—whether it’s a toaster\, a lamp\, or a favourite piece of clothing—and our team of volunteer repairers will do their best to fix them. It’s a great way to save money\, reduce waste\, and connect with the local community. \nEveryone is welcome! \nOur 22nd November event will be back in Hemyock.
URL:https://cagdevon.org.uk/event/blackdown-hills-repair-cafe-5/
LOCATION:Churchinford Village Hall\, Churchinford\, TA3 7QY\, United Kingdom
CATEGORIES:Blackdown Hills Repair Cafe,Group events,Repair,Topic
ATTACH;FMTTYPE=image/png:https://cagdevon.org.uk/wp-content/uploads/BH-Repair-Cafe.png
ORGANIZER;CN="Blackdown Hills Repair Cafe":MAILTO:blackdownhillsrc@gmail.com
END:VEVENT
END:VCALENDAR