BEGIN:VCALENDAR
VERSION:2.0
PRODID:-//CAG Devon - ECPv6.15.18//NONSGML v1.0//EN
CALSCALE:GREGORIAN
METHOD:PUBLISH
X-WR-CALNAME:CAG Devon
X-ORIGINAL-URL:https://cagdevon.org.uk
X-WR-CALDESC:Events for CAG Devon
REFRESH-INTERVAL;VALUE=DURATION:PT1H
X-Robots-Tag:noindex
X-PUBLISHED-TTL:PT1H
BEGIN:VTIMEZONE
TZID:Europe/London
BEGIN:DAYLIGHT
TZOFFSETFROM:+0000
TZOFFSETTO:+0100
TZNAME:BST
DTSTART:20230326T010000
END:DAYLIGHT
BEGIN:STANDARD
TZOFFSETFROM:+0100
TZOFFSETTO:+0000
TZNAME:GMT
DTSTART:20231029T010000
END:STANDARD
BEGIN:DAYLIGHT
TZOFFSETFROM:+0000
TZOFFSETTO:+0100
TZNAME:BST
DTSTART:20240331T010000
END:DAYLIGHT
BEGIN:STANDARD
TZOFFSETFROM:+0100
TZOFFSETTO:+0000
TZNAME:GMT
DTSTART:20241027T010000
END:STANDARD
BEGIN:DAYLIGHT
TZOFFSETFROM:+0000
TZOFFSETTO:+0100
TZNAME:BST
DTSTART:20250330T010000
END:DAYLIGHT
BEGIN:STANDARD
TZOFFSETFROM:+0100
TZOFFSETTO:+0000
TZNAME:GMT
DTSTART:20251026T010000
END:STANDARD
BEGIN:DAYLIGHT
TZOFFSETFROM:+0000
TZOFFSETTO:+0100
TZNAME:BST
DTSTART:20260329T010000
END:DAYLIGHT
BEGIN:STANDARD
TZOFFSETFROM:+0100
TZOFFSETTO:+0000
TZNAME:GMT
DTSTART:20261025T010000
END:STANDARD
END:VTIMEZONE
BEGIN:VEVENT
DTSTART;TZID=Europe/London:20250614T100000
DTEND;TZID=Europe/London:20250614T123000
DTSTAMP:20260424T011159
CREATED:20250520T094918Z
LAST-MODIFIED:20250520T094918Z
UID:10001714-1749895200-1749904200@cagdevon.org.uk
SUMMARY:Great Big Green Week Bio-blitz
DESCRIPTION:As part of our Eco Fair\, we are running a bio-blitz within the grounds of our local Church. \nMeeting at the Eco Fair in The Charter Hall\, we aim to leave at approximately 10am and walk up to All Saints Parish Church. It’s not a long walk but it is up hill and we may well find that there are many wild flowers to look at along the way as we follow a wild flower trail. \nThe group will be supported by a member of the Devon Wildlife Trust Team as well as members of Wild Oke. Once within the grounds of All Saints\, you will be given resources to help you identify plants\, lichens\, mosses\, trees\, birds\, insects etc as well as looking to see what mammals left their marks overnight in the footprint tunnels. Stay for as long or short as suits you. \nResults of your investigations will be fed back to All Saints and will provide a baseline for future ecological surveys. \nBring water\, a hat and sun cream!
URL:https://cagdevon.org.uk/event/great-big-green-week-bio-blitz/
LOCATION:Charter Hall\, Market Street\, Okehampton\, EX20 1AA\, United Kingdom
CATEGORIES:Biodiversity,Group events,Plastic Free Okehampton,Topic
ATTACH;FMTTYPE=image/png:https://cagdevon.org.uk/wp-content/uploads/GBGW-2025-1x1-Save-The-Date.png
END:VEVENT
BEGIN:VEVENT
DTSTART;TZID=Europe/London:20250614T093000
DTEND;TZID=Europe/London:20250614T133000
DTSTAMP:20260424T011159
CREATED:20250520T104250Z
LAST-MODIFIED:20250520T104715Z
UID:10001713-1749893400-1749907800@cagdevon.org.uk
SUMMARY:Okehampton Green Week Eco Fair
DESCRIPTION:Join Plastic Free Okehampton and other local environmental groups for our culmination of The Great Big Green Week. \nWe will be holding our annual Eco Fair where you will have the opportunity to join in with practical environmental activities in The Charter Hall and around town. \nActivities will include undertaking a bio-blitz of the grounds of All Saints Parish Church\, litter pick around town\, following a wild flower trail\, learning about pine martens\, judging of ‘Nature on our Doorstep’ photography competition\, pollinator plants to buy and craft activities for children.
URL:https://cagdevon.org.uk/event/okehampton-green-week-eco-fair/
LOCATION:Charter Hall\, Market Street\, Okehampton\, EX20 1AA\, United Kingdom
CATEGORIES:Biodiversity,Group event,Plastic Free Okehampton,Topic
ATTACH;FMTTYPE=image/png:https://cagdevon.org.uk/wp-content/uploads/GBGW-Logo-01.png
END:VEVENT
BEGIN:VEVENT
DTSTART;TZID=Europe/London:20250610T193000
DTEND;TZID=Europe/London:20250610T210000
DTSTAMP:20260424T011159
CREATED:20250603T225821Z
LAST-MODIFIED:20250603T225834Z
UID:10001717-1749583800-1749589200@cagdevon.org.uk
SUMMARY:Recovering the Rainforest
DESCRIPTION:You are invited to a viewing of this award-winning short film at The New Carlton Cinema\, Okehampton – ‘Recovering the Rainforest.’ \nJoin us for 10 minutes of visual delight exploring the UK’s beautiful\, rare\, temperate rainforests\, written and narrated by award-winning science communicator\, Sophie Pavelle. \nFollowing the film there will be an intimate\, live Q&A session with Sam Manning\, Executive Producer and Woodland Trust’s SW Rainforest Project Manager. \nTickets available from The New Carlton Cinema Box Office.
URL:https://cagdevon.org.uk/event/recovering-the-rainforest/
LOCATION:New Carlton Cinema\, Market Street\, Okehampton\, Devon\, EX20 1HN\, United Kingdom
CATEGORIES:Biodiversity,Group events,Plastic Free Okehampton,Topic
ATTACH;FMTTYPE=image/jpeg:https://cagdevon.org.uk/wp-content/uploads/film-photo-scaled.jpg
END:VEVENT
BEGIN:VEVENT
DTSTART;TZID=Europe/London:20250604T193000
DTEND;TZID=Europe/London:20250604T213000
DTSTAMP:20260424T011159
CREATED:20250520T103307Z
LAST-MODIFIED:20250520T103307Z
UID:10001715-1749065400-1749072600@cagdevon.org.uk
SUMMARY:Green Drinks
DESCRIPTION:You are warmly invited to join our summer Green Drinks social gathering to meet local\, like-minded people to chat about topical\, local environmental issues and projects\, swapping ideas and learning from each other. \nEnjoying the tranquil atmosphere of the Community Garden with its stunning views\, please bring your own drink and a glass. \nIf the weather is inclement\, the event will move to a different indoor venue. \nPlease check Plastic Free Okehampton’s Facebook Group nearer the time for confirmation of venue.
URL:https://cagdevon.org.uk/event/green-drinks-2/
LOCATION:Okehampton Community Garden\, Fatherford Lane\, Okehampton\, Devon\, EX20 1QS\, United Kingdom
CATEGORIES:Group event,Plastic Free Okehampton,Topic
ATTACH;FMTTYPE=image/jpeg:https://cagdevon.org.uk/wp-content/uploads/IMG_0618-scaled.jpg
END:VEVENT
BEGIN:VEVENT
DTSTART;TZID=Europe/London:20250329T100000
DTEND;TZID=Europe/London:20250329T120000
DTSTAMP:20260424T011159
CREATED:20250318T183620Z
LAST-MODIFIED:20250318T183654Z
UID:10001708-1743242400-1743249600@cagdevon.org.uk
SUMMARY:Great British Spring Clean
DESCRIPTION:Okehampton volunteer groups will be coming together to clear our streets of litter on Saturday\, 29th March from 10-12pm. Join Plastic Free Okehampton in collecting litter from the housing estates around Okehampton Community Garden and the East side of town. Simply drop into the garden from 10am\, collect your litter picking equipment and head off returning back to the garden with your bags of rubbish. PFO members will then carry out a Million Mile Clean Brand Audit for Surfers Against Sewage. Hot drinks and cakes will be available at the garden afterwards – donations towards these costs would be most welcome. Thank you.
URL:https://cagdevon.org.uk/event/great-british-spring-clean/
LOCATION:Okehampton Community Garden\, Fatherford Lane\, Okehampton\, Devon\, EX20 1QS\, United Kingdom
CATEGORIES:Group events,Plastic Free Okehampton,Plastic reduction,Topic,Waste and recycling
ATTACH;FMTTYPE=image/png:https://cagdevon.org.uk/wp-content/uploads/Plastic-Free-Okehampton-are-delighted-to-be-part-of-this-years-collaborative-community-litter-pick-Saturday-29th-March-10-12pm-We-will-focus-our-litter-pick-around-Fatherford-Lane.-Collect-your-e-1.png
END:VEVENT
BEGIN:VEVENT
DTSTART;TZID=Europe/London:20241205T180000
DTEND;TZID=Europe/London:20241205T210000
DTSTAMP:20260424T011159
CREATED:20241203T101950Z
LAST-MODIFIED:20241203T101950Z
UID:10001408-1733421600-1733432400@cagdevon.org.uk
SUMMARY:Swishmas - swap\, don't shop
DESCRIPTION:Refresh your Christmas jumper. Update your party outfits. \nBring along a couple of Christmassy items on the night at Edwardian Evening and go home with a refreshed wardrobe. No expense\, no hassle and feel good about creating less waste. \nFind us outside Health and Nutrition Okehampton in Red Lion Yard this Thursday.
URL:https://cagdevon.org.uk/event/swishmas-swap-dont-shop/
LOCATION:Okehampton Red Lion Yard
CATEGORIES:Group events,Plastic Free Okehampton,Reuse and sharing
ATTACH;FMTTYPE=image/jpeg:https://cagdevon.org.uk/wp-content/uploads/IMG_1614-scaled.jpg
END:VEVENT
BEGIN:VEVENT
DTSTART;TZID=Europe/London:20240612T193000
DTEND;TZID=Europe/London:20240612T213000
DTSTAMP:20260424T011159
CREATED:20240604T211525Z
LAST-MODIFIED:20240604T211525Z
UID:10001207-1718220600-1718227800@cagdevon.org.uk
SUMMARY:Okehampton Green Drinks
DESCRIPTION:As part of the Great Big Green Week\, we would like to invite you to attend a special Green Drinks at Okehampton’s Community Garden. Come and chat to like-minded people\, enjoy a stroll around the garden and take in the stunning views of Dartmoor. There will also be the opportunity to learn about local Repair Cafe initiatives from volunteers that have helped to set them up. \nPlease bring your own drink and a glass. Parking is available. We look forward to welcoming you to the garden.
URL:https://cagdevon.org.uk/event/okehampton-green-drinks/
LOCATION:Okehampton Community Garden\, Fatherford Lane\, Okehampton\, Devon\, EX20 1QS\, United Kingdom
CATEGORIES:Group events,Plastic Free Okehampton,Repair
ATTACH;FMTTYPE=image/jpeg:https://cagdevon.org.uk/wp-content/uploads/IMG_0481-scaled.jpg
END:VEVENT
BEGIN:VEVENT
DTSTART;TZID=Europe/London:20240501T193000
DTEND;TZID=Europe/London:20240501T213000
DTSTAMP:20260424T011159
CREATED:20240418T094509Z
LAST-MODIFIED:20240418T094700Z
UID:10000609-1714591800-1714599000@cagdevon.org.uk
SUMMARY:Green Drinks
DESCRIPTION:You are invited to join like-minded residents\, business leaders\, voluntary groups and councillors to enjoy support and conversation about local environmental issues in and around Okehampton. Meeting once a month at local venues\, our informal social event is usually started with a short talk about a local project. The rest of the evening is spent chatting\, networking and learning about local environmental projects. \nOur May Green Drinks will take place on Wednesday 1st\, from 7.30-9.30pm at Okehampton’s Eco Hub in the grounds of Okehampton College when we will have 2 speakers from Okehampton’s Community Fridge and Dartmoor Dynamic Landscape. \nFree parking is available next to the tennis courts and the Pavilion in the Park. No booking is required but if you do have any questions please email okegreendrinks@gmail.com. \nFollow Plastic Free Okehampton on Facebook for regular updates.
URL:https://cagdevon.org.uk/event/green-drinks/
LOCATION:Okehampton EcoHub\, Okehampton College
CATEGORIES:Biodiversity,Group events,Plastic Free Okehampton,Plastic reduction,Volunteering
ATTACH;FMTTYPE=image/jpeg:https://cagdevon.org.uk/wp-content/uploads/greendrinksaugust-1-scaled.jpg
END:VEVENT
END:VCALENDAR