BEGIN:VCALENDAR
VERSION:2.0
PRODID:-//CAG Devon - ECPv6.15.18//NONSGML v1.0//EN
CALSCALE:GREGORIAN
METHOD:PUBLISH
X-WR-CALNAME:CAG Devon
X-ORIGINAL-URL:https://cagdevon.org.uk
X-WR-CALDESC:Events for CAG Devon
REFRESH-INTERVAL;VALUE=DURATION:PT1H
X-Robots-Tag:noindex
X-PUBLISHED-TTL:PT1H
BEGIN:VTIMEZONE
TZID:Europe/London
BEGIN:DAYLIGHT
TZOFFSETFROM:+0000
TZOFFSETTO:+0100
TZNAME:BST
DTSTART:20250330T010000
END:DAYLIGHT
BEGIN:STANDARD
TZOFFSETFROM:+0100
TZOFFSETTO:+0000
TZNAME:GMT
DTSTART:20251026T010000
END:STANDARD
BEGIN:DAYLIGHT
TZOFFSETFROM:+0000
TZOFFSETTO:+0100
TZNAME:BST
DTSTART:20260329T010000
END:DAYLIGHT
BEGIN:STANDARD
TZOFFSETFROM:+0100
TZOFFSETTO:+0000
TZNAME:GMT
DTSTART:20261025T010000
END:STANDARD
BEGIN:DAYLIGHT
TZOFFSETFROM:+0000
TZOFFSETTO:+0100
TZNAME:BST
DTSTART:20270328T010000
END:DAYLIGHT
BEGIN:STANDARD
TZOFFSETFROM:+0100
TZOFFSETTO:+0000
TZNAME:GMT
DTSTART:20271031T010000
END:STANDARD
END:VTIMEZONE
BEGIN:VEVENT
DTSTART;TZID=Europe/London:20260424T150000
DTEND;TZID=Europe/London:20260424T180000
DTSTAMP:20260424T014305
CREATED:20260217T132147Z
LAST-MODIFIED:20260217T132147Z
UID:10002116-1777042800-1777053600@cagdevon.org.uk
SUMMARY:Ashburton Repair Café
DESCRIPTION:We’re open every Friday between 3pm and 6pm at our workshop on Chuley Road. Check our website for details on how to find us\, to book your item in for repair\, what we can (and can’t) repair and much more: ashburtonrepaircafe.org.uk.
URL:https://cagdevon.org.uk/event/ashburton-repair-cafe-5/2026-04-24/
LOCATION:Chuley Road Workshop\, Ashburton\, The Old Umber Works\, Chuley Road\, Ashburton\, Newton Abbot\, Devon\, TQ13 7DH\, United Kingdom
CATEGORIES:Ashburton Repair Cafe
ATTACH;FMTTYPE=image/jpeg:https://cagdevon.org.uk/wp-content/uploads/Andreas-fixing-2023.jpg
END:VEVENT
END:VCALENDAR